BEGIN:VCALENDAR
PRODID:-//eluceo/ical//2.0/EN
VERSION:2.0
CALSCALE:GREGORIAN
BEGIN:VEVENT
UID:537c0a913d7c94dd5a3269a8ef863199
DTSTAMP:20260422T105403Z
SUMMARY:6:00 PM JCF IOC meeting
DESCRIPTION:Jewish Federation & Foundation of Northeast Florida\nCommunity 
 Calendar\nhttps://jewishjacksonville.org/jewish-federation-of-jacksonville
 -calendar/600-pm-jcf-ioc-meeting\n\nJCF IOC meeting\n\nPlease RSVP to Jean
  Brantley
DTSTART;TZID=America/New_York:20160202T180000
DTEND;TZID=America/New_York:20160202T200000
END:VEVENT
END:VCALENDAR
