BEGIN:VCALENDAR
PRODID:-//eluceo/ical//2.0/EN
VERSION:2.0
CALSCALE:GREGORIAN
BEGIN:VEVENT
UID:c82ddfb27a23f71597406186f9394a78
DTSTAMP:20260420T141812Z
SUMMARY:6:00 PM Jacksonville Jewish Center Sukkot Day 7 Evening Services
DESCRIPTION:Jewish Federation & Foundation of Northeast Florida\nCommunity 
 Calendar\nhttps://jewishjacksonville.org/jewish-federation-of-jacksonville
 -calendar/600-pm-jacksonville-jewish-center-sukkot-day-7-evening-services\
 n\nSukkot Day 7 (Erev Hoshana Rabbah/Shimini Atzeret) Evening Services\n\n
 https://www.jaxjewishcenter.org/engage/full-calendar/
DTSTART;TZID=America/New_York:20210927T180000
DTEND;TZID=America/New_York:20210927T190000
END:VEVENT
END:VCALENDAR
