BEGIN:VCALENDAR
PRODID:-//eluceo/ical//2.0/EN
VERSION:2.0
CALSCALE:GREGORIAN
BEGIN:VEVENT
UID:c76823e84807d53b2efbd45f633cce48
DTSTAMP:20260421T043530Z
SUMMARY:6:00 PM Jacksonville Jewish Center Kol Nidre Services (live stream)
DESCRIPTION:Jewish Federation & Foundation of Northeast Florida\nCommunity 
 Calendar\nhttps://jewishjacksonville.org/jewish-federation-of-jacksonville
 -calendar/600-pm-jacksonville-jewish-center-kol-nidre-services-live-stream
 \n\nKol Nidre Services (live stream)\n\nhttps://www.jaxjewishcenter.org/je
 wish-life/holidays/hhd5781/virtualhhd/
DTSTART;TZID=America/New_York:20200927T183000
DTEND;TZID=America/New_York:20200927T200000
END:VEVENT
END:VCALENDAR
