BEGIN:VCALENDAR
PRODID:-//eluceo/ical//2.0/EN
VERSION:2.0
CALSCALE:GREGORIAN
BEGIN:VEVENT
UID:90dbf6dfe2057e92ea2f07da6b06cfc5
DTSTAMP:20260421T055233Z
SUMMARY:6:00 PM Jacksonville Jewish Center Evening Services virtual and in 
 person
DESCRIPTION:Jewish Federation & Foundation of Northeast Florida\nCommunity 
 Calendar\nhttps://jewishjacksonville.org/jewish-federation-of-jacksonville
 -calendar/600-pm-jacksonville-jewish-center-evening-services-virtual-and-i
 n-person\n\nEvening Services\n\n6:00 – 6:30pm\n\nWeekly on Sunday\, Mond
 ay\, Tuesday\, Wednesday\, Thursday\, until Mar 14\, 2021 https://www.jax
 jewishcenter.org/engage/full-calendar/\n\n\n\n\n\n\n\n\n\n\nJoin with Goog
 le Meet\n\nmeet.google.com/akq-sydx-vpu\n\n\n\n\n\n\n \n\n\n\n\n\n\n\n\n\
 n\nJoin by phone\n\n‪(US) +1 857-529-6530‬ PIN: ‪174 392 384‬#\n\n
 \n\n\nLocation:\n\n\n\n\n\n\n\nSanctuary & Zoom\n\n \n\n\n\n\n\n 
DTSTART;TZID=America/New_York:20210213T180000
DTEND;TZID=America/New_York:20210213T183000
END:VEVENT
END:VCALENDAR
