BEGIN:VCALENDAR
PRODID:-//eluceo/ical//2.0/EN
VERSION:2.0
CALSCALE:GREGORIAN
BEGIN:VEVENT
UID:64a939ccec8ce50a4f420382fbc426df
DTSTAMP:20260423T011359Z
SUMMARY:6:00 PM Jacksonville Jewish Center Erev Sukkot Evening Services
DESCRIPTION:Jewish Federation & Foundation of Northeast Florida\nCommunity 
 Calendar\nhttps://jewishjacksonville.org/jewish-federation-of-jacksonville
 -calendar/600-pm-jacksonville-jewish-center-erev-sukkot-evening-services\n
 \nErev Sukkot Evening Services \n\nhttps://www.jaxjewishcenter.org/engage
 /full-calendar/
DTSTART;TZID=America/New_York:20210920T180000
DTEND;TZID=America/New_York:20210920T183000
END:VEVENT
END:VCALENDAR
