BEGIN:VCALENDAR
PRODID:-//eluceo/ical//2.0/EN
VERSION:2.0
CALSCALE:GREGORIAN
BEGIN:VEVENT
UID:de86c49ef25664445e637c2a3b605377
DTSTAMP:20260421T231542Z
SUMMARY:6:00 PM Jacksonville Jewish Center Beginner's Hebrew Class virtual
DESCRIPTION:Jewish Federation & Foundation of Northeast Florida\nCommunity 
 Calendar\nhttps://jewishjacksonville.org/jewish-federation-of-jacksonville
 -calendar/600-pm-jacksonville-jewish-center-beginners-hebrew-class\n\nBegi
 nner's Hebrew Class (Read Hebrew America)\n\nMonday\, February 1⋅6:00 
 – 7:00pm\n\nWeekly on Monday\, 7 timesLocation:\n\n\n\n\n\n\n\nVirtual 
 https://www.jaxjewishcenter.org/engage/full-calendar/\n\n \n\n\n\n\n\n
 \n\nDescription:Congregation Learning initiative taught by volunteer instr
 uctor Martin Levine.Organizer: Lifelong Learning (Adult & Family E
DTSTART;TZID=America/New_York:20210208T180000
DTEND;TZID=America/New_York:20210208T190000
END:VEVENT
END:VCALENDAR
