BEGIN:VCALENDAR
PRODID:-//eluceo/ical//2.0/EN
VERSION:2.0
CALSCALE:GREGORIAN
BEGIN:VEVENT
UID:9a76d990d1eca4d726985d35d562a234
DTSTAMP:20260421T143436Z
SUMMARY:6:00 p.m. Federation rGEN Financial Literacy Workshop
DESCRIPTION:Jewish Federation & Foundation of Northeast Florida\nCommunity 
 Calendar\nhttps://jewishjacksonville.org/jewish-federation-of-jacksonville
 -calendar/600-pm-federation-rgen-financial-literacy-workshop\n\nFederation
  rGEN Financial Literacy Workshop\n\nSeptember 26\, 2019\n\n6:00 - 8:00 p.
 m.
DTSTART;TZID=America/New_York:20190926T180000
DTEND;TZID=America/New_York:20190926T200000
END:VEVENT
END:VCALENDAR
