BEGIN:VCALENDAR
PRODID:-//eluceo/ical//2.0/EN
VERSION:2.0
CALSCALE:GREGORIAN
BEGIN:VEVENT
UID:94de5b00404807e291c65dc88060fb9d
DTSTAMP:20260424T145638Z
SUMMARY:6:00 PM A Night Out with Federation
DESCRIPTION:Jewish Federation & Foundation of Northeast Florida\nCommunity 
 Calendar\nhttps://jewishjacksonville.org/jewish-federation-of-jacksonville
 -calendar/600-pm-federation-community-event\n\nCommunity Event \n\nFebrua
 ry 7\n\n6:00-9:00 PM
DTSTART;TZID=America/New_York:20190207T180000
DTEND;TZID=America/New_York:20190207T210000
END:VEVENT
END:VCALENDAR
