BEGIN:VCALENDAR
PRODID:-//eluceo/ical//2.0/EN
VERSION:2.0
CALSCALE:GREGORIAN
BEGIN:VEVENT
UID:c243691bd2d7302a748604d73c631e7f
DTSTAMP:20260424T133201Z
SUMMARY:6:00 PM Federation Board Meeting
DESCRIPTION:Jewish Federation & Foundation of Northeast Florida\nCommunity 
 Calendar\nhttps://jewishjacksonville.org/jewish-federation-of-jacksonville
 -calendar/600-pm-federation-board-meeting-c\n\nJewish Federation of Jackso
 nville Board Meeting
DTSTART;TZID=America/New_York:20171214T180000
DTEND;TZID=America/New_York:20171214T200000
END:VEVENT
END:VCALENDAR
