BEGIN:VCALENDAR
PRODID:-//eluceo/ical//2.0/EN
VERSION:2.0
CALSCALE:GREGORIAN
BEGIN:VEVENT
UID:cea1aafe5211a6b27fcdd631f423eee0
DTSTAMP:20260421T063954Z
SUMMARY:6:00 PM Congregation Ahavath Chesed Sisterhood's Women Seder
DESCRIPTION:Jewish Federation & Foundation of Northeast Florida\nCommunity 
 Calendar\nhttps://jewishjacksonville.org/jewish-federation-of-jacksonville
 -calendar/600-pm-congregation-ahavath-chesed-sisterhoods-women-seder\n\nCo
 ngregation Ahavath Chesed\n\nSisterhood's Women's Seder\n\nThursday\, Marc
 h 23\, 2023\n\n6:00 PM - 10:00 PM\n\nBlock Event Room
DTSTART;TZID=America/New_York:20230323T180000
DTEND;TZID=America/New_York:20230323T220000
END:VEVENT
END:VCALENDAR
