BEGIN:VCALENDAR
PRODID:-//eluceo/ical//2.0/EN
VERSION:2.0
CALSCALE:GREGORIAN
BEGIN:VEVENT
UID:91f232376a8d508ba964718ffeeef3af
DTSTAMP:20260425T134307Z
SUMMARY:6:00 Jacksonville Jewish Center Virtual - Erev Sukkot Evening Servi
 ces
DESCRIPTION:Jewish Federation & Foundation of Northeast Florida\nCommunity 
 Calendar\nhttps://jewishjacksonville.org/jewish-federation-of-jacksonville
 -calendar/600-jacksonville-jewish-center-virtual-erev-sukkot-evening-servi
 ces\n\nVirtual - Erev Sukkot Evening Services (live stream)\n\n \n\nhttps
 ://www.jaxjewishcenter.org/jewish-life/holidays/hhd5781/virtualhhd/\n\n \
 n\nJoin by phone\n\n‪(US) +1 218-301-2329‬ PIN: ‪788 117 235‬#
DTSTART;TZID=America/New_York:20201002T180000
DTEND;TZID=America/New_York:20201002T190000
END:VEVENT
END:VCALENDAR
