BEGIN:VCALENDAR
PRODID:-//eluceo/ical//2.0/EN
VERSION:2.0
CALSCALE:GREGORIAN
BEGIN:VEVENT
UID:4e50f19308f79c40de1bbafb7b524741
DTSTAMP:20260421T195523Z
SUMMARY:6 PM Red Sea Spies: The True Story of Mossad's Fake Diving Resort (
 Zoom)
DESCRIPTION:Jewish Federation & Foundation of Northeast Florida\nCommunity 
 Calendar\nhttps://jewishjacksonville.org/jewish-federation-of-jacksonville
 -calendar/6-pm-red-sea-spies-the-true-story-of-mossads-fake-diving-resort\
 n\nIn the 1980s\, a luxury resort on the Sudanese coast operated as a cove
 r for Israel's Mossad. Guests were unaware hotel staff was undertaking the
  secret evacuation of thousands of Ethiopian Jews and spiriting them to Is
 rael. Berg is the Middle East online editor of BBC News\, and this page tu
 rner inspired the Netflix drama\, The red Sea Diving Resort.\n\nAdvance re
 gistration required to 730-2100 ext. 228. 
DTSTART;TZID=America/New_York:20201105T180000
DTEND;TZID=America/New_York:20201105T190000
END:VEVENT
END:VCALENDAR
