BEGIN:VCALENDAR
PRODID:-//eluceo/ical//2.0/EN
VERSION:2.0
CALSCALE:GREGORIAN
BEGIN:VEVENT
UID:e021eea4946f0b78f2daf7551d823600
DTSTAMP:20260423T195551Z
SUMMARY:6 PM November 29th Board Meeting
DESCRIPTION:Jewish Federation & Foundation of Northeast Florida\nCommunity 
 Calendar\nhttps://jewishjacksonville.org/jewish-federation-of-jacksonville
 -calendar/6-pm-november-29th-board-meeting\n\nNovember 29th\, 2018 is the 
 Federaton Board Meeting\, at 6 p.m.
DTSTART;TZID=America/New_York:20181129T180000
DTEND;TZID=America/New_York:20181129T203000
END:VEVENT
END:VCALENDAR
