BEGIN:VCALENDAR
PRODID:-//eluceo/ical//2.0/EN
VERSION:2.0
CALSCALE:GREGORIAN
BEGIN:VEVENT
UID:94c9621899cf508e38fcb0f1ec025ae6
DTSTAMP:20260425T233526Z
SUMMARY:5PM Israel Solidarity Event
DESCRIPTION:Jewish Federation & Foundation of Northeast Florida\nCommunity 
 Calendar\nhttps://jewishjacksonville.org/jewish-federation-of-jacksonville
 -calendar/5pm-israel-solidarity-event\n\nSupport Israel! Event details an
 d location to follow.
DTSTART;TZID=America/New_York:20140803T170000
DTEND;TZID=America/New_York:20140803T190000
END:VEVENT
END:VCALENDAR
