BEGIN:VCALENDAR
PRODID:-//eluceo/ical//2.0/EN
VERSION:2.0
CALSCALE:GREGORIAN
BEGIN:VEVENT
UID:3565c7437cf82d16ff494118b37931f3
DTSTAMP:20260420T155901Z
SUMMARY:5:45 PM Temple - Congregation Ahavath Chesed - Chanukah Shabbat Shi
 reinu
DESCRIPTION:Jewish Federation & Foundation of Northeast Florida\nCommunity 
 Calendar\nhttps://jewishjacksonville.org/jewish-federation-of-jacksonville
 -calendar/545-pm-temple-congregation-ahavath-chesed--chanukah-shabbat-shir
 einu\n\nJoin us on Friday\, January 3\, 2025\, for Temple's Chanukah Shire
 inu with FNL Band. \n\nTot Shabbat begins at 5:45 PM followed by congrega
 tional dinner at 6:15 PM before services. \n\nBring your own Chanukiyah to
  celebrate the festival of lights!
DTSTART;TZID=America/New_York:20250103T174500
DTEND;TZID=America/New_York:20250103T203000
END:VEVENT
END:VCALENDAR
