BEGIN:VCALENDAR
PRODID:-//eluceo/ical//2.0/EN
VERSION:2.0
CALSCALE:GREGORIAN
BEGIN:VEVENT
UID:8da80fef544277393bbf29f077de1b13
DTSTAMP:20260420T115608Z
SUMMARY:5:45 PM River Garden Senior Services Board Meeting
DESCRIPTION:Jewish Federation & Foundation of Northeast Florida\nCommunity 
 Calendar\nhttps://jewishjacksonville.org/jewish-federation-of-jacksonville
 -calendar/545-pm-river-garden-hebrew-home-board-meeting-oct\n\nMonthly Boa
 rd Meeting
DTSTART;TZID=America/New_York:20201026T174500
DTEND;TZID=America/New_York:20201026T183000
END:VEVENT
END:VCALENDAR
