BEGIN:VCALENDAR
PRODID:-//eluceo/ical//2.0/EN
VERSION:2.0
CALSCALE:GREGORIAN
BEGIN:VEVENT
UID:9eeee0b070eb620125ecd7b4b2c121f1
DTSTAMP:20260423T162834Z
SUMMARY:5:45 PM River Garden Senior Services Board Meeting
DESCRIPTION:Jewish Federation & Foundation of Northeast Florida\nCommunity 
 Calendar\nhttps://jewishjacksonville.org/jewish-federation-of-jacksonville
 -calendar/545-pm-river-garden-hebrew-home-board-meeting-may\n\nMonthly Boa
 rd Meeting
DTSTART;TZID=America/New_York:20200518T174500
DTEND;TZID=America/New_York:20200518T183000
END:VEVENT
END:VCALENDAR
