BEGIN:VCALENDAR
PRODID:-//eluceo/ical//2.0/EN
VERSION:2.0
CALSCALE:GREGORIAN
BEGIN:VEVENT
UID:decf95699fb43f755fe66fc10e04dba3
DTSTAMP:20260424T093426Z
SUMMARY:5:45 PM JCA Chanukkah Extravaganza
DESCRIPTION:Jewish Federation & Foundation of Northeast Florida\nCommunity 
 Calendar\nhttps://jewishjacksonville.org/jewish-federation-of-jacksonville
 -calendar/545-pm-jca-chanukkah-extravaganza\n\nGet ready to gather with us
  on Thursday\, December 10 at 5:45pm for the annual Chanukiyah Lighting C
 eremony!\n\nThis year\, JCA Board Vice Chair\, Michael Miller\, welcomes e
 veryone and our CEO\, Adam Chaskin\, will lead the lighting of the JCA’
 s giant outdoor chanukiyah\, created by local artist David Ponsler. End 
 the evening singing traditional Chanukkah songs led by Hazzan Holzer. \n\
 nFor more information about this free event\, contact Rachel Sandler at 7
 30-2100 ext. 271 or Rachel.sandle...
DTSTART;TZID=America/New_York:20201210T000000
DTEND;TZID=America/New_York:20201210T235959
END:VEVENT
END:VCALENDAR
