BEGIN:VCALENDAR
PRODID:-//eluceo/ical//2.0/EN
VERSION:2.0
CALSCALE:GREGORIAN
BEGIN:VEVENT
UID:591e23381f47a95825e7c2ea51bd5d8d
DTSTAMP:20260422T054039Z
SUMMARY:5:45 PM Congregation Ahavath Chesed Shabbat Shireinu
DESCRIPTION:Jewish Federation & Foundation of Northeast Florida\nCommunity 
 Calendar\nhttps://jewishjacksonville.org/jewish-federation-of-jacksonville
 -calendar/545-pm-congregation-ahavath-chesed-shabbat-shireinu-3\n\nShabbat
  Shireinu \n\n5:45 PM - Tot Shabbat (In-person outside)\n\n6:15 PM - Comm
 unity Dinner (In-person outside)\n\n7:00 PM - Adult Service (In-person & O
 nline)\n\nBBQ Dinner\n\n$5 - Child | $8 - Member | $10 - Non-Member\n\nVen
 mo: @thetemplejax or Cash or Check at the Door\n\nRSVP by Tuesday\, March 
 1 at 5 PM with Venmo or https://BIT.LY/Shireinu3\n\n 
DTSTART;TZID=America/New_York:20220304T174500
DTEND;TZID=America/New_York:20220304T200000
END:VEVENT
END:VCALENDAR
