BEGIN:VCALENDAR
PRODID:-//eluceo/ical//2.0/EN
VERSION:2.0
CALSCALE:GREGORIAN
BEGIN:VEVENT
UID:52b13ad20f0ad17672bd68af8299cd39
DTSTAMP:20260421T080737Z
SUMMARY:5:45 Congregation Ahavath Chesed Shabbat Shireinu March 3
DESCRIPTION:Jewish Federation & Foundation of Northeast Florida\nCommunity 
 Calendar\nhttps://jewishjacksonville.org/jewish-federation-of-jacksonville
 -calendar/545-congregation-ahavath-chesed-shabbat-shireinu-march-3\n\nCong
 regation Ahavath Chesed invites you to\n\nShabbat Shireinu\n\nMarch 3\, 20
 23\n\n5:45 PM Tot Shabbat (In-person Inside)\n\n6:15 PM Community Dinner 
 \n\n7:00 PM Services\n\n$6/Child\, $12/Member Adult\, $15/Non-Member\n\nVe
 nmo/Cash/Check at the door
DTSTART;TZID=America/New_York:20230303T174500
DTEND;TZID=America/New_York:20230303T200000
END:VEVENT
END:VCALENDAR
