BEGIN:VCALENDAR
PRODID:-//eluceo/ical//2.0/EN
VERSION:2.0
CALSCALE:GREGORIAN
BEGIN:VEVENT
UID:a0379863a1d10669e1c189fa882223ee
DTSTAMP:20260424T202454Z
SUMMARY:5:30PM Temple Kol Nidre Family Service
DESCRIPTION:Jewish Federation & Foundation of Northeast Florida\nCommunity 
 Calendar\nhttps://jewishjacksonville.org/jewish-federation-of-jacksonville
 -calendar/530pm-temple-kol-nidre-family-service\n\nKol Nidre Family Servic
 e
DTSTART;TZID=America/New_York:20150922T173000
DTEND;TZID=America/New_York:20150922T183000
END:VEVENT
END:VCALENDAR
