BEGIN:VCALENDAR
PRODID:-//eluceo/ical//2.0/EN
VERSION:2.0
CALSCALE:GREGORIAN
BEGIN:VEVENT
UID:7ce7fda330104871a553db74cea5efbe
DTSTAMP:20260420T174323Z
SUMMARY:5:30PM JFNFL Create A Jewish Legacy - LIFE & LEGACY Kickoff Event
DESCRIPTION:Jewish Federation & Foundation of Northeast Florida\nCommunity 
 Calendar\nhttps://jewishjacksonville.org/jewish-federation-of-jacksonville
 -calendar/530pm-jfnfl-create-a-jewish-legacy---life--legacy-kickoff-event-
 8619\n\n5:30PM JFNFL L&L Kickoff Event
DTSTART;TZID=America/New_York:20140225T173000
DTEND;TZID=America/New_York:20140225T203000
END:VEVENT
END:VCALENDAR
