BEGIN:VCALENDAR
PRODID:-//eluceo/ical//2.0/EN
VERSION:2.0
CALSCALE:GREGORIAN
BEGIN:VEVENT
UID:42fcc2e5516c6e1524ea7215064940ad
DTSTAMP:20260425T165021Z
SUMMARY:5:30PM Federation Executive Board Meeting
DESCRIPTION:Jewish Federation & Foundation of Northeast Florida\nCommunity 
 Calendar\nhttps://jewishjacksonville.org/jewish-federation-of-jacksonville
 -calendar/530pm-federation-executive-board-meeting-8158\n\n6P Fed Executiv
 e Board Meeting
DTSTART;TZID=America/New_York:20130425T180000
DTEND;TZID=America/New_York:20130425T190000
END:VEVENT
END:VCALENDAR
