BEGIN:VCALENDAR
PRODID:-//eluceo/ical//2.0/EN
VERSION:2.0
CALSCALE:GREGORIAN
BEGIN:VEVENT
UID:095ae3367171550e02388367cdce480f
DTSTAMP:20260422T110220Z
SUMMARY:5:30PM Federation Allocations Committee Meeting
DESCRIPTION:Jewish Federation & Foundation of Northeast Florida\nCommunity 
 Calendar\nhttps://jewishjacksonville.org/jewish-federation-of-jacksonville
 -calendar/530pm-federation-allocations-committee-meeting-48504\n\n5:30PM F
 ederation Allocations Committee Meeting
DTSTART;TZID=America/New_York:20140429T173000
DTEND;TZID=America/New_York:20140429T210000
END:VEVENT
END:VCALENDAR
