BEGIN:VCALENDAR
PRODID:-//eluceo/ical//2.0/EN
VERSION:2.0
CALSCALE:GREGORIAN
BEGIN:VEVENT
UID:70b00cf3abca46afe56c6f8a34f43ffa
DTSTAMP:20260426T043536Z
SUMMARY:5:30PM Beth El: Community 2nd Night Passover Seder and Dinner
DESCRIPTION:Jewish Federation & Foundation of Northeast Florida\nCommunity 
 Calendar\nhttps://jewishjacksonville.org/jewish-federation-of-jacksonville
 -calendar/530pm-beth-el-community-2nd-night-passover-seder-and-dinner\n\nA
 ll are welcome to the Beth El Community 2nd Night Passover Seder and Dinne
 r. Contact us to RSVP.
DTSTART;TZID=America/New_York:20190420T173000
DTEND;TZID=America/New_York:20190420T203000
END:VEVENT
END:VCALENDAR
