BEGIN:VCALENDAR
PRODID:-//eluceo/ical//2.0/EN
VERSION:2.0
CALSCALE:GREGORIAN
BEGIN:VEVENT
UID:bf9bad4204c60fb44a2ddec17f0b1ff5
DTSTAMP:20260421T030546Z
SUMMARY:5:30P JJC Family Friday Service & Dinner
DESCRIPTION:Jewish Federation & Foundation of Northeast Florida\nCommunity 
 Calendar\nhttps://jewishjacksonville.org/jewish-federation-of-jacksonville
 -calendar/530p-jjc-family-friday-service--dinner\n\n5:30P JJC Family Frida
 y Service & Dinner
DTSTART;TZID=America/New_York:20130531T173000
DTEND;TZID=America/New_York:20130531T200000
END:VEVENT
END:VCALENDAR
