BEGIN:VCALENDAR
PRODID:-//eluceo/ical//2.0/EN
VERSION:2.0
CALSCALE:GREGORIAN
BEGIN:VEVENT
UID:5c49cf1ef517c06c871e4d315cfe9b21
DTSTAMP:20260422T161040Z
SUMMARY:5:30P JCA ECE Symposium
DESCRIPTION:Jewish Federation & Foundation of Northeast Florida\nCommunity 
 Calendar\nhttps://jewishjacksonville.org/jewish-federation-of-jacksonville
 -calendar/530p-jca-ece-symposium\n\n5:30P JCA ECE Symposium
DTSTART;TZID=America/New_York:20131015T173000
DTEND;TZID=America/New_York:20131015T203000
END:VEVENT
END:VCALENDAR
