BEGIN:VCALENDAR
PRODID:-//eluceo/ical//2.0/EN
VERSION:2.0
CALSCALE:GREGORIAN
BEGIN:VEVENT
UID:618818f9124edde9be08d91466c652d2
DTSTAMP:20260426T012457Z
SUMMARY:5:30P  JJC YOGA CLASS
DESCRIPTION:Jewish Federation & Foundation of Northeast Florida\nCommunity 
 Calendar\nhttps://jewishjacksonville.org/jewish-federation-of-jacksonville
 -calendar/530p--jjc-yoga-class\n\n5:30P  JJC YOGA CLASS
DTSTART;TZID=America/New_York:20130103T173000
DTEND;TZID=America/New_York:20130103T183000
END:VEVENT
END:VCALENDAR
