BEGIN:VCALENDAR
PRODID:-//eluceo/ical//2.0/EN
VERSION:2.0
CALSCALE:GREGORIAN
BEGIN:VEVENT
UID:9e92389bf156f6156a8eb93e1ebadaeb
DTSTAMP:20260424T094415Z
SUMMARY:5:30 PM Tot Shabbat at Temple
DESCRIPTION:Jewish Federation & Foundation of Northeast Florida\nCommunity 
 Calendar\nhttps://jewishjacksonville.org/jewish-federation-of-jacksonville
 -calendar/530-pm-tot-shabbat-at-temple-68967\n\nThe youngest members of ou
 r Congregation celebrate with their very own Shabbat.  Tots and their fam
 ilies will enjoy dinner and an art project at 5:30 p.m. followed by a live
 ly Tot Shabbat service at 6:00 p.m.  Giggles & wiggles are encouraged!  
 An RSVP is much appreciated if you'll be joining us for dinner and we invi
 te EVERYONE to join us at 6:00 for this fun and lively Shabbat worship.  
 Hope to see you there! 
DTSTART;TZID=America/New_York:20140725T173000
DTEND;TZID=America/New_York:20140725T183000
END:VEVENT
END:VCALENDAR
