BEGIN:VCALENDAR
PRODID:-//eluceo/ical//2.0/EN
VERSION:2.0
CALSCALE:GREGORIAN
BEGIN:VEVENT
UID:33ceb5a670e9ac34665e164647a09a71
DTSTAMP:20260422T073035Z
SUMMARY:5:30 PM River Garden Board Meeting
DESCRIPTION:Jewish Federation & Foundation of Northeast Florida\nCommunity 
 Calendar\nhttps://jewishjacksonville.org/jewish-federation-of-jacksonville
 -calendar/530-pm-river-garden-board-meeting\n\nBoard Meeting
DTSTART;TZID=America/New_York:20150608T173000
DTEND;TZID=America/New_York:20150608T183000
END:VEVENT
END:VCALENDAR
