BEGIN:VCALENDAR
PRODID:-//eluceo/ical//2.0/EN
VERSION:2.0
CALSCALE:GREGORIAN
BEGIN:VEVENT
UID:7cd2ef200923d95a837ab645acb2efae
DTSTAMP:20260422T055151Z
SUMMARY:6:00 PM JFCS Annual Fundraiser Event - Soaring to New Heights
DESCRIPTION:Jewish Federation & Foundation of Northeast Florida\nCommunity 
 Calendar\nhttps://jewishjacksonville.org/jewish-federation-of-jacksonville
 -calendar/530-pm-jfcs-annual-fundraiser-event\n\nJFCS's Annual Fundraiser\
 , Soaring to New Heights\, at Generations in Aviation at Marco Airplane Ha
 ngar from 6-8:30 p.m.
DTSTART;TZID=America/New_York:20220407T173000
DTEND;TZID=America/New_York:20220407T203000
END:VEVENT
END:VCALENDAR
