BEGIN:VCALENDAR
PRODID:-//eluceo/ical//2.0/EN
VERSION:2.0
CALSCALE:GREGORIAN
BEGIN:VEVENT
UID:c077aa772b1c7602ced433d60d689fe8
DTSTAMP:20260423T025320Z
SUMMARY:5:30 PM JCA Michele Block Gan Yeladim Early Childhood Symposium
DESCRIPTION:Jewish Federation & Foundation of Northeast Florida\nCommunity 
 Calendar\nhttps://jewishjacksonville.org/jewish-federation-of-jacksonville
 -calendar/530-pm-jca-michele-block-gan-yeladim-early-childhood-symposium-o
 ctober-2018\n\nMichele Block Gan Yeladim Early Childhood Symposium profess
 ional conference
DTSTART;TZID=America/New_York:20181016T173000
DTEND;TZID=America/New_York:20181016T203000
END:VEVENT
END:VCALENDAR
