BEGIN:VCALENDAR
PRODID:-//eluceo/ical//2.0/EN
VERSION:2.0
CALSCALE:GREGORIAN
BEGIN:VEVENT
UID:7942c55b9c6deb70392554f15fc3ae55
DTSTAMP:20260426T000914Z
SUMMARY:5:30 PM-Beth El's Congregational Hanukkah Dinner
DESCRIPTION:Jewish Federation & Foundation of Northeast Florida\nCommunity 
 Calendar\nhttps://jewishjacksonville.org/jewish-federation-of-jacksonville
 -calendar/530-pm-beth-els-congregational-hanukkah-dinner\n\nPlease join us
  on Sunday\, December 17th for our Hanukkah Dinner and Celebration. There 
 will be songs\, food\, and our second annual Major League Dreidel Tournam
 ent!
DTSTART;TZID=America/New_York:20171217T173000
DTEND;TZID=America/New_York:20171217T203000
END:VEVENT
END:VCALENDAR
