BEGIN:VCALENDAR
PRODID:-//eluceo/ical//2.0/EN
VERSION:2.0
CALSCALE:GREGORIAN
BEGIN:VEVENT
UID:11c1131eda31db7ae217910e3335ae91
DTSTAMP:20260421T172138Z
SUMMARY:5:30 PM - Federation Board Meeting
DESCRIPTION:Jewish Federation & Foundation of Northeast Florida\nCommunity 
 Calendar\nhttps://jewishjacksonville.org/jewish-federation-of-jacksonville
 -calendar/530-federation-board-meeting-5\n\n5:30 Federation Board Meeting
  
DTSTART;TZID=America/New_York:20170323T173000
DTEND;TZID=America/New_York:20170323T193000
END:VEVENT
END:VCALENDAR
