BEGIN:VCALENDAR
PRODID:-//eluceo/ical//2.0/EN
VERSION:2.0
CALSCALE:GREGORIAN
BEGIN:VEVENT
UID:77fd5a837ca0df25202c794e66b87f96
DTSTAMP:20260423T225948Z
SUMMARY:5:15PM JJC BOARD MEETING
DESCRIPTION:Jewish Federation & Foundation of Northeast Florida\nCommunity 
 Calendar\nhttps://jewishjacksonville.org/jewish-federation-of-jacksonville
 -calendar/515pm-jjc-board-meeting-8313\n\nJJC Board Meeting
DTSTART;TZID=America/New_York:20130528T171500
DTEND;TZID=America/New_York:20130528T190000
END:VEVENT
END:VCALENDAR
