BEGIN:VCALENDAR
PRODID:-//eluceo/ical//2.0/EN
VERSION:2.0
CALSCALE:GREGORIAN
BEGIN:VEVENT
UID:a7558bfb7cc7f5622b334a23798d61c7
DTSTAMP:20260425T134612Z
SUMMARY:5:15 Federation 2016 Allocations Committee Meeting
DESCRIPTION:Jewish Federation & Foundation of Northeast Florida\nCommunity 
 Calendar\nhttps://jewishjacksonville.org/jewish-federation-of-jacksonville
 -calendar/515-federation-allocations-committee-meeting-2\n\nFederation All
 ocations Committee Meeting two.
DTSTART;TZID=America/New_York:20160510T171500
DTEND;TZID=America/New_York:20160510T213000
END:VEVENT
END:VCALENDAR
