BEGIN:VCALENDAR
PRODID:-//eluceo/ical//2.0/EN
VERSION:2.0
CALSCALE:GREGORIAN
BEGIN:VEVENT
UID:e885a0567cb50a9ab931dadd59173be4
DTSTAMP:20260424T033848Z
SUMMARY:5:00 PM Jacksonville Jewish Center Tashlikh at Jax Beach
DESCRIPTION:Jewish Federation & Foundation of Northeast Florida\nCommunity 
 Calendar\nhttps://jewishjacksonville.org/jewish-federation-of-jacksonville
 -calendar/500-pm-jacksonville-jewish-center-tashlikh-at-jax-beach\n\nTashl
 ikh at Jax Beach (48 16th Ave S\, Jacksonville Beach 32250)
DTSTART;TZID=America/New_York:20200923T170000
DTEND;TZID=America/New_York:20200923T180000
END:VEVENT
END:VCALENDAR
