BEGIN:VCALENDAR
PRODID:-//eluceo/ical//2.0/EN
VERSION:2.0
CALSCALE:GREGORIAN
BEGIN:VEVENT
UID:1e36ad8b3fbdbd2ba1fdb26b99ed1998
DTSTAMP:20260420T174423Z
SUMMARY:5:00 PM Jacksonville Jewish Center Hanukkah 2nd Night Virtual
DESCRIPTION:Jewish Federation & Foundation of Northeast Florida\nCommunity 
 Calendar\nhttps://jewishjacksonville.org/jewish-federation-of-jacksonville
 -calendar/500-pm-jacksonville-jewish-center-hanukkah-2nd-night-virtual\n\n
 Community Hanukkah Candle Lighting\n\nFriday\, December 11⋅5:00 – 5:30
 pm\n\nhttps://www.jaxjewishcenter.org/engage/full-calendar/
DTSTART;TZID=America/New_York:20201211T170000
DTEND;TZID=America/New_York:20201211T173000
END:VEVENT
END:VCALENDAR
