BEGIN:VCALENDAR
PRODID:-//eluceo/ical//2.0/EN
VERSION:2.0
CALSCALE:GREGORIAN
BEGIN:VEVENT
UID:e2b5a093536e91d5f7ead8a2e517ac80
DTSTAMP:20260422T054119Z
SUMMARY:5:00 pm Havdalah and Tu b'Shevat Seder Congregation Ahavath Chesed
DESCRIPTION:Jewish Federation & Foundation of Northeast Florida\nCommunity 
 Calendar\nhttps://jewishjacksonville.org/jewish-federation-of-jacksonville
 -calendar/500-pm-havdalah-and-tu-bshevat-seder-congregation-ahavath-chesed
 \n\nHavdalah and Tu b'Shevat Seder
DTSTART;TZID=America/New_York:20170211T170000
DTEND;TZID=America/New_York:20170211T190000
END:VEVENT
END:VCALENDAR
