BEGIN:VCALENDAR
PRODID:-//eluceo/ical//2.0/EN
VERSION:2.0
CALSCALE:GREGORIAN
BEGIN:VEVENT
UID:b336a0048f0abe02a421efbef5a76dba
DTSTAMP:20260420T174333Z
SUMMARY:5 PM Jacksonville Jewish Center Healing Service Virtual
DESCRIPTION:Jewish Federation & Foundation of Northeast Florida\nCommunity 
 Calendar\nhttps://jewishjacksonville.org/jewish-federation-of-jacksonville
 -calendar/5-pm-jacksonville-jewish-center\n\nhttps://www.jaxjewishcenter.o
 rg/engage/full-calendar/\n\nHealing Services (Virtual)\n\n5:00 – 6:00pm\
 n\nWeekly on Tuesdays through July 31
DTSTART;TZID=America/New_York:20200616T170000
DTEND;TZID=America/New_York:20200616T180000
END:VEVENT
END:VCALENDAR
