BEGIN:VCALENDAR
PRODID:-//eluceo/ical//2.0/EN
VERSION:2.0
CALSCALE:GREGORIAN
BEGIN:VEVENT
UID:61f826ed2728e0c97ecdfd13ccee2b8c
DTSTAMP:20260424T151140Z
SUMMARY:4PM JJC Center Board Meeting
DESCRIPTION:Jewish Federation & Foundation of Northeast Florida\nCommunity 
 Calendar\nhttps://jewishjacksonville.org/jewish-federation-of-jacksonville
 -calendar/4pm-jjc-center-board-meeting-48591\n\n4PM JJC Center Board Meeti
 ng
DTSTART;TZID=America/New_York:20131219T160000
DTEND;TZID=America/New_York:20131219T170000
END:VEVENT
END:VCALENDAR
