BEGIN:VCALENDAR
PRODID:-//eluceo/ical//2.0/EN
VERSION:2.0
CALSCALE:GREGORIAN
BEGIN:VEVENT
UID:71a4b7ac5ada67055dde7f9f43f5a185
DTSTAMP:20260424T162322Z
SUMMARY:4:00 PM Jewish Community Fun with the Suns Day
DESCRIPTION:Jewish Federation & Foundation of Northeast Florida\nCommunity 
 Calendar\nhttps://jewishjacksonville.org/jewish-federation-of-jacksonville
 -calendar/400-pm-jewish-community-fun-with-the-suns-day\n\nJewish Communit
 y Fun with the Suns Day. \n\n 
DTSTART;TZID=America/New_York:20160731T160000
DTEND;TZID=America/New_York:20160731T200000
END:VEVENT
END:VCALENDAR
