BEGIN:VCALENDAR
PRODID:-//eluceo/ical//2.0/EN
VERSION:2.0
CALSCALE:GREGORIAN
BEGIN:VEVENT
UID:8a6b5c2287baf7735a80a0e86980738d
DTSTAMP:20260420T012845Z
SUMMARY:4:00 PM Jacksonville Jewish Center Yom Kippur discussion w/Rabbi Lu
 bliner
DESCRIPTION:Jewish Federation & Foundation of Northeast Florida\nCommunity 
 Calendar\nhttps://jewishjacksonville.org/jewish-federation-of-jacksonville
 -calendar/400-pm-jacksonville-jewish-center-yom-kippur-discussion-wrabbi-l
 ubliner\n\nYom Kippur dialogue and discussion with Rabbi Jonathan Lubliner
  
DTSTART;TZID=America/New_York:20210916T160000
DTEND;TZID=America/New_York:20210916T170000
END:VEVENT
END:VCALENDAR
