BEGIN:VCALENDAR
PRODID:-//eluceo/ical//2.0/EN
VERSION:2.0
CALSCALE:GREGORIAN
BEGIN:VEVENT
UID:d4fc8b6380efcbc7a5a5805d9fd6ee06
DTSTAMP:20260423T225235Z
SUMMARY:4:00 PM Jacksonville Jewish Center Candle lighting Baptist South
DESCRIPTION:Jewish Federation & Foundation of Northeast Florida\nCommunity 
 Calendar\nhttps://jewishjacksonville.org/jewish-federation-of-jacksonville
 -calendar/400-pm-jacksonville-jewish-center-candle-lighting-baptist-south\
 n\nCandle Lighting at\n\nBaptist Medical Center South\n\n\n\n\n\n\n\n\n\nP
 lease join Rabbi Jonathan Lubliner in the courtyard of Baptist Medical Cen
 ter South for a community hanukkiah lighting & a joyous celebration.\n\n
  \n\n14550 Old St Augustine Rd\,\n\n﻿Jacksonville\, FL 32258
DTSTART;TZID=America/New_York:20211202T160000
DTEND;TZID=America/New_York:20211202T180000
END:VEVENT
END:VCALENDAR
