BEGIN:VCALENDAR
PRODID:-//eluceo/ical//2.0/EN
VERSION:2.0
CALSCALE:GREGORIAN
BEGIN:VEVENT
UID:f1b386bcf82d859c860ee1bf377c1a0f
DTSTAMP:20260425T172027Z
SUMMARY:4:00 PM Congregation Ahavath Chesed Movie & Havdallah
DESCRIPTION:Jewish Federation & Foundation of Northeast Florida\nCommunity 
 Calendar\nhttps://jewishjacksonville.org/jewish-federation-of-jacksonville
 -calendar/400-pm-congregation-ahavath-chesed-movie-havdallah\n\nMovie & Ha
 vdallah
DTSTART;TZID=America/New_York:20220212T160000
DTEND;TZID=America/New_York:20220212T200000
END:VEVENT
END:VCALENDAR
