BEGIN:VCALENDAR
PRODID:-//eluceo/ical//2.0/EN
VERSION:2.0
CALSCALE:GREGORIAN
BEGIN:VEVENT
UID:536ea8ce862a6d3b253df0a79b698085
DTSTAMP:20260423T164025Z
SUMMARY:11:30PM Temple Jewish Food Festival
DESCRIPTION:Jewish Federation & Foundation of Northeast Florida\nCommunity 
 Calendar\nhttps://jewishjacksonville.org/jewish-federation-of-jacksonville
 -calendar/3pm-temple-jewish-food-festival\n\nEveryone is welcome! Jewish f
 ood from around the world. $18 all you can eat! Fun for the whole family!
DTSTART;TZID=America/New_York:20150503T113000
DTEND;TZID=America/New_York:20150503T143000
END:VEVENT
END:VCALENDAR
