BEGIN:VCALENDAR
PRODID:-//eluceo/ical//2.0/EN
VERSION:2.0
CALSCALE:GREGORIAN
BEGIN:VEVENT
UID:ea85984d510bac5ee321695a4ae9ba5b
DTSTAMP:20260424T094525Z
SUMMARY:3PM River Garden Anniversary Day and Annual Meeting
DESCRIPTION:Jewish Federation & Foundation of Northeast Florida\nCommunity 
 Calendar\nhttps://jewishjacksonville.org/jewish-federation-of-jacksonville
 -calendar/3pm-river-garden-anniversary-day-and-annual-meeting-8357\n\n3PM 
 RG Anniversary Day and Annual Meeting
DTSTART;TZID=America/New_York:20140323T150000
DTEND;TZID=America/New_York:20140323T180000
END:VEVENT
END:VCALENDAR
