BEGIN:VCALENDAR
PRODID:-//eluceo/ical//2.0/EN
VERSION:2.0
CALSCALE:GREGORIAN
BEGIN:VEVENT
UID:9651ac78af0642cf1c29427241c2be5b
DTSTAMP:20260422T003254Z
SUMMARY:3PM JCA Vandroff Art Gallery Opening
DESCRIPTION:Jewish Federation & Foundation of Northeast Florida\nCommunity 
 Calendar\nhttps://jewishjacksonville.org/jewish-federation-of-jacksonville
 -calendar/3pm-jca-vandroff-art-gallery-opening\n\n3PM JCA Vandroff Art Gal
 lery Opening
DTSTART;TZID=America/New_York:20131208T150000
DTEND;TZID=America/New_York:20131208T170000
END:VEVENT
END:VCALENDAR
