BEGIN:VCALENDAR
PRODID:-//eluceo/ical//2.0/EN
VERSION:2.0
CALSCALE:GREGORIAN
BEGIN:VEVENT
UID:d6cec73b42cb83b9373df5f9244522e9
DTSTAMP:20260422T072955Z
SUMMARY:3:30 PM Jacksonville Jewish Center Coping with Loss
DESCRIPTION:Jewish Federation & Foundation of Northeast Florida\nCommunity 
 Calendar\nhttps://jewishjacksonville.org/jewish-federation-of-jacksonville
 -calendar/330-pm-jacksonville-jewish-center-coping-\n\nCoping with Loss\n\
 nEvery 2 weeks on Wednesday\n\n\n\n\n\n\n\n\n\n\nJoin with Google Meet\n\n
 meet.google.com/ago-crdn-ysn\n\n\n\n\n\n\n \n\n\n\n\n\n\n\n\n\n\nJoin by 
 phone\n\n‪(US) +1 901-373-9480‬ PIN: ‪603 890 611‬#
DTSTART;TZID=America/New_York:20200610T153000
DTEND;TZID=America/New_York:20200610T163000
END:VEVENT
END:VCALENDAR
