BEGIN:VCALENDAR
PRODID:-//eluceo/ical//2.0/EN
VERSION:2.0
CALSCALE:GREGORIAN
BEGIN:VEVENT
UID:d0bd3a297518150c3f51ed26ad173c82
DTSTAMP:20260424T173442Z
SUMMARY:3:15 PM JCA Kids Yom Ha'Atzmaut Cooking
DESCRIPTION:Jewish Federation & Foundation of Northeast Florida\nCommunity 
 Calendar\nhttps://jewishjacksonville.org/jewish-federation-of-jacksonville
 -calendar/315-pm-jca-kids-yom-haatzmaut-cooking\n\nYom Ha’Atzmaut Cookin
 g\n3 (by 9/1/2021) - 6 yrs\n\nCelebrate Yom Ha’Atzmaut\, Israel’s Inde
 pendence Day\, with a fun cooking class where your children can enjoy the 
 holiday using all of their senses. \n\nFri\, May 6 | 3:15 - 4 pm $15 | Val
 ued member $10 \n\nPlease register by visiting https://jcajax-rec.force.
 com/s/login/ or by calling (904) 730-2100 ext. 228. \n\nFor more informat
 ion\, please contact our Michele Block Gan Yeladim Preschool & Kindergarte
 n at ganyeladim@jcajax.org o...
DTSTART;TZID=America/New_York:20220506T151500
DTEND;TZID=America/New_York:20220506T160000
END:VEVENT
END:VCALENDAR
